BEGIN:VCALENDAR
VERSION:2.0
PRODID:-//Dodge Ridge Mountain Resort - ECPv6.15.20//NONSGML v1.0//EN
CALSCALE:GREGORIAN
METHOD:PUBLISH
X-ORIGINAL-URL:https://summer.dodgeridge.com
X-WR-CALDESC:Events for Dodge Ridge Mountain Resort
REFRESH-INTERVAL;VALUE=DURATION:PT1H
X-Robots-Tag:noindex
X-PUBLISHED-TTL:PT1H
BEGIN:VTIMEZONE
TZID:America/Los_Angeles
BEGIN:DAYLIGHT
TZOFFSETFROM:-0800
TZOFFSETTO:-0700
TZNAME:PDT
DTSTART:20220313T100000
END:DAYLIGHT
BEGIN:STANDARD
TZOFFSETFROM:-0700
TZOFFSETTO:-0800
TZNAME:PST
DTSTART:20221106T090000
END:STANDARD
BEGIN:DAYLIGHT
TZOFFSETFROM:-0800
TZOFFSETTO:-0700
TZNAME:PDT
DTSTART:20230312T100000
END:DAYLIGHT
BEGIN:STANDARD
TZOFFSETFROM:-0700
TZOFFSETTO:-0800
TZNAME:PST
DTSTART:20231105T090000
END:STANDARD
BEGIN:DAYLIGHT
TZOFFSETFROM:-0800
TZOFFSETTO:-0700
TZNAME:PDT
DTSTART:20240310T100000
END:DAYLIGHT
BEGIN:STANDARD
TZOFFSETFROM:-0700
TZOFFSETTO:-0800
TZNAME:PST
DTSTART:20241103T090000
END:STANDARD
END:VTIMEZONE
BEGIN:VEVENT
DTSTART;TZID=America/Los_Angeles:20231008T100000
DTEND;TZID=America/Los_Angeles:20231008T110000
DTSTAMP:20260421T013729
CREATED:20230918T170529Z
LAST-MODIFIED:20230918T170555Z
UID:10000364-1696759200-1696762800@summer.dodgeridge.com
SUMMARY:Morning Yoga
DESCRIPTION:Morning Yoga in the Helm Family Lodge with Sierra Flow Fitness
URL:https://summer.dodgeridge.com/event/morning-yoga-10-08-2023/
LOCATION:Helm Family Lodge
ATTACH;FMTTYPE=image/png:https://summer.dodgeridge.com/wp-content/uploads/2023/06/yoga-class-min.png
END:VEVENT
BEGIN:VEVENT
DTSTART;TZID=America/Los_Angeles:20231007T100000
DTEND;TZID=America/Los_Angeles:20231007T110000
DTSTAMP:20260421T013729
CREATED:20230918T170327Z
LAST-MODIFIED:20230918T170355Z
UID:10000338-1696672800-1696676400@summer.dodgeridge.com
SUMMARY:Morning Yoga
DESCRIPTION:Morning Yoga in the Helm Family Lodge with Sierra Flow Fitness
URL:https://summer.dodgeridge.com/event/morning-yoga-10-07-2023/
LOCATION:Helm Family Lodge
ATTACH;FMTTYPE=image/png:https://summer.dodgeridge.com/wp-content/uploads/2023/06/yoga-class-min.png
END:VEVENT
BEGIN:VEVENT
DTSTART;TZID=America/Los_Angeles:20230701T160000
DTEND;TZID=America/Los_Angeles:20230701T180000
DTSTAMP:20260421T013729
CREATED:20230612T224432Z
LAST-MODIFIED:20230612T224432Z
UID:10000119-1688227200-1688234400@summer.dodgeridge.com
SUMMARY:Line Dancing
DESCRIPTION:Line Dancing class with Sierra Flow Fitness
URL:https://summer.dodgeridge.com/event/line-dancing/
LOCATION:Helm Family Lodge
ATTACH;FMTTYPE=image/png:https://summer.dodgeridge.com/wp-content/uploads/2023/06/line-dancing-min.png
END:VEVENT
END:VCALENDAR